BEGIN:VCALENDAR
VERSION:2.0
PRODID:-//Tourist Information Euerdorf - ECPv6.15.17//NONSGML v1.0//EN
CALSCALE:GREGORIAN
METHOD:PUBLISH
X-ORIGINAL-URL:https://euerdorf.de
X-WR-CALDESC:Veranstaltungen für Tourist Information Euerdorf
REFRESH-INTERVAL;VALUE=DURATION:PT1H
X-Robots-Tag:noindex
X-PUBLISHED-TTL:PT1H
BEGIN:VTIMEZONE
TZID:Europe/Berlin
BEGIN:DAYLIGHT
TZOFFSETFROM:+0100
TZOFFSETTO:+0200
TZNAME:CEST
DTSTART:20240331T010000
END:DAYLIGHT
BEGIN:STANDARD
TZOFFSETFROM:+0200
TZOFFSETTO:+0100
TZNAME:CET
DTSTART:20241027T010000
END:STANDARD
BEGIN:DAYLIGHT
TZOFFSETFROM:+0100
TZOFFSETTO:+0200
TZNAME:CEST
DTSTART:20250330T010000
END:DAYLIGHT
BEGIN:STANDARD
TZOFFSETFROM:+0200
TZOFFSETTO:+0100
TZNAME:CET
DTSTART:20251026T010000
END:STANDARD
BEGIN:DAYLIGHT
TZOFFSETFROM:+0100
TZOFFSETTO:+0200
TZNAME:CEST
DTSTART:20260329T010000
END:DAYLIGHT
BEGIN:STANDARD
TZOFFSETFROM:+0200
TZOFFSETTO:+0100
TZNAME:CET
DTSTART:20261025T010000
END:STANDARD
END:VTIMEZONE
BEGIN:VEVENT
DTSTART;TZID=Europe/Berlin:20251108T170000
DTEND;TZID=Europe/Berlin:20251108T170000
DTSTAMP:20260423T010809
CREATED:20250228T140151Z
LAST-MODIFIED:20250228T140151Z
UID:1878-1762621200-1762621200@euerdorf.de
SUMMARY:Martinszug Wirmsthal
DESCRIPTION:
URL:https://euerdorf.de/event/martinszug-wirmsthal-2/
LOCATION:Bushaltestelle Wirmsthal
ORGANIZER;CN="FFW Wirmsthal":MAILTO:buetti19@gmx.de
END:VEVENT
BEGIN:VEVENT
DTSTART;TZID=Europe/Berlin:20251108T200000
DTEND;TZID=Europe/Berlin:20251108T200000
DTSTAMP:20260423T010809
CREATED:20250228T140226Z
LAST-MODIFIED:20250228T140226Z
UID:1880-1762632000-1762632000@euerdorf.de
SUMMARY:Nacht der Lichter
DESCRIPTION:
URL:https://euerdorf.de/event/nacht-der-lichter-2/
LOCATION:Pfarrkirche St. Johannes der Täufer\, Hammelburger Straße 16\, Euerdorf\, Bayern\, 97717\, Deutschland
END:VEVENT
BEGIN:VEVENT
DTSTART;TZID=Europe/Berlin:20251111T170000
DTEND;TZID=Europe/Berlin:20251111T170000
DTSTAMP:20260423T010809
CREATED:20250228T140115Z
LAST-MODIFIED:20250228T140115Z
UID:1876-1762880400-1762880400@euerdorf.de
SUMMARY:Martinszug Euerdorf
DESCRIPTION:
URL:https://euerdorf.de/event/martinszug-euerdorf-2/
LOCATION:Euerdorf\, Euerdorf\, 97717\, Deutschland
END:VEVENT
BEGIN:VEVENT
DTSTART;VALUE=DATE:20251115
DTEND;VALUE=DATE:20251116
DTSTAMP:20260423T010809
CREATED:20250228T140035Z
LAST-MODIFIED:20250228T140035Z
UID:1874-1763164800-1763251199@euerdorf.de
SUMMARY:Rathaussturm Euerdorf
DESCRIPTION:
URL:https://euerdorf.de/event/rathaussturm-euerdorf-2/
LOCATION:Bayern
END:VEVENT
BEGIN:VEVENT
DTSTART;TZID=Europe/Berlin:20251130T120000
DTEND;TZID=Europe/Berlin:20251130T190000
DTSTAMP:20260423T010809
CREATED:20250228T140006Z
LAST-MODIFIED:20251130T002536Z
UID:1872-1764504000-1764529200@euerdorf.de
SUMMARY:Weihnachtsmarkt
DESCRIPTION:
URL:https://euerdorf.de/event/weihnachtsmarkt-2/
LOCATION:Museum Terra Triassica\, Gerichtsgasse 22\, Euerdorf\, Bayern\, 97717\, Deutschland
END:VEVENT
END:VCALENDAR