BEGIN:VCALENDAR
VERSION:2.0
PRODID:-//Tourist Information Euerdorf - ECPv6.15.17//NONSGML v1.0//EN
CALSCALE:GREGORIAN
METHOD:PUBLISH
X-WR-CALNAME:Tourist Information Euerdorf
X-ORIGINAL-URL:https://euerdorf.de
X-WR-CALDESC:Veranstaltungen für Tourist Information Euerdorf
REFRESH-INTERVAL;VALUE=DURATION:PT1H
X-Robots-Tag:noindex
X-PUBLISHED-TTL:PT1H
BEGIN:VTIMEZONE
TZID:Europe/Berlin
BEGIN:DAYLIGHT
TZOFFSETFROM:+0100
TZOFFSETTO:+0200
TZNAME:CEST
DTSTART:20250330T010000
END:DAYLIGHT
BEGIN:STANDARD
TZOFFSETFROM:+0200
TZOFFSETTO:+0100
TZNAME:CET
DTSTART:20251026T010000
END:STANDARD
BEGIN:DAYLIGHT
TZOFFSETFROM:+0100
TZOFFSETTO:+0200
TZNAME:CEST
DTSTART:20260329T010000
END:DAYLIGHT
BEGIN:STANDARD
TZOFFSETFROM:+0200
TZOFFSETTO:+0100
TZNAME:CET
DTSTART:20261025T010000
END:STANDARD
BEGIN:DAYLIGHT
TZOFFSETFROM:+0100
TZOFFSETTO:+0200
TZNAME:CEST
DTSTART:20270328T010000
END:DAYLIGHT
BEGIN:STANDARD
TZOFFSETFROM:+0200
TZOFFSETTO:+0100
TZNAME:CET
DTSTART:20271031T010000
END:STANDARD
END:VTIMEZONE
BEGIN:VEVENT
DTSTART;VALUE=DATE:20261212
DTEND;VALUE=DATE:20261213
DTSTAMP:20260422T193319
CREATED:20260226T205805Z
LAST-MODIFIED:20260226T205805Z
UID:2096-1797033600-1797119999@euerdorf.de
SUMMARY:Glühweinabend
DESCRIPTION:
URL:https://euerdorf.de/event/gluehweinabend-3/
LOCATION:Jugendraum Euerdorf\, Hammelburger Straße 18\, Euerdorf\, Bayern\, 97717\, Deutschland
END:VEVENT
BEGIN:VEVENT
DTSTART;VALUE=DATE:20261219
DTEND;VALUE=DATE:20261220
DTSTAMP:20260422T193319
CREATED:20260226T205839Z
LAST-MODIFIED:20260226T205839Z
UID:2098-1797638400-1797724799@euerdorf.de
SUMMARY:Jahresabschlussfeier
DESCRIPTION:
URL:https://euerdorf.de/event/jahresabschlussfeier-2/
LOCATION:Schützenheim Euerdorf\, Karwinkel 1\, Euerdorf\, Bayern\, 97717\, Deutschland
END:VEVENT
BEGIN:VEVENT
DTSTART;TZID=Europe/Berlin:20261220T170000
DTEND;TZID=Europe/Berlin:20261220T170000
DTSTAMP:20260422T193319
CREATED:20260226T205916Z
LAST-MODIFIED:20260226T205916Z
UID:2100-1797786000-1797786000@euerdorf.de
SUMMARY:Weihnachtslieder unterm Christbaum
DESCRIPTION:
URL:https://euerdorf.de/event/weihnachtslieder-unterm-christbaum-4/
LOCATION:Marktplatz Euerdorf\, Euerdorf\, Bayern\, 97717\, Deutschland
END:VEVENT
END:VCALENDAR