BEGIN:VCALENDAR
VERSION:2.0
PRODID:-//Tourist Information Euerdorf - ECPv6.15.17//NONSGML v1.0//EN
CALSCALE:GREGORIAN
METHOD:PUBLISH
X-ORIGINAL-URL:https://euerdorf.de
X-WR-CALDESC:Veranstaltungen für Tourist Information Euerdorf
REFRESH-INTERVAL;VALUE=DURATION:PT1H
X-Robots-Tag:noindex
X-PUBLISHED-TTL:PT1H
BEGIN:VTIMEZONE
TZID:Europe/Berlin
BEGIN:DAYLIGHT
TZOFFSETFROM:+0100
TZOFFSETTO:+0200
TZNAME:CEST
DTSTART:20240331T010000
END:DAYLIGHT
BEGIN:STANDARD
TZOFFSETFROM:+0200
TZOFFSETTO:+0100
TZNAME:CET
DTSTART:20241027T010000
END:STANDARD
BEGIN:DAYLIGHT
TZOFFSETFROM:+0100
TZOFFSETTO:+0200
TZNAME:CEST
DTSTART:20250330T010000
END:DAYLIGHT
BEGIN:STANDARD
TZOFFSETFROM:+0200
TZOFFSETTO:+0100
TZNAME:CET
DTSTART:20251026T010000
END:STANDARD
BEGIN:DAYLIGHT
TZOFFSETFROM:+0100
TZOFFSETTO:+0200
TZNAME:CEST
DTSTART:20260329T010000
END:DAYLIGHT
BEGIN:STANDARD
TZOFFSETFROM:+0200
TZOFFSETTO:+0100
TZNAME:CET
DTSTART:20261025T010000
END:STANDARD
BEGIN:DAYLIGHT
TZOFFSETFROM:+0100
TZOFFSETTO:+0200
TZNAME:CEST
DTSTART:20270328T010000
END:DAYLIGHT
BEGIN:STANDARD
TZOFFSETFROM:+0200
TZOFFSETTO:+0100
TZNAME:CET
DTSTART:20271031T010000
END:STANDARD
END:VTIMEZONE
BEGIN:VEVENT
DTSTART;VALUE=DATE:20260417
DTEND;VALUE=DATE:20260418
DTSTAMP:20260422T164440
CREATED:20251224T132724Z
LAST-MODIFIED:20251224T132724Z
UID:2015-1776384000-1776470399@euerdorf.de
SUMMARY:Generalversammlung mit Neuwahlen
DESCRIPTION:
URL:https://euerdorf.de/event/generalversammlung-mit-neuwahlen/
LOCATION:Sportheim Euerdorf\, Euerdorf\, Bayern\, 97717\, Deutschland
ORGANIZER;CN="TSV Euerdorf":MAILTO:tsv.euerdorf@web.de
END:VEVENT
BEGIN:VEVENT
DTSTART;VALUE=DATE:20260412
DTEND;VALUE=DATE:20260413
DTSTAMP:20260422T164440
CREATED:20251224T132639Z
LAST-MODIFIED:20251224T132639Z
UID:2013-1775952000-1776038399@euerdorf.de
SUMMARY:Weißer Sonntag
DESCRIPTION:
URL:https://euerdorf.de/event/weisser-sonntag-3/
LOCATION:Pfarrkirche St. Johannes der Täufer\, Hammelburger Straße 16\, Euerdorf\, Bayern\, 97717\, Deutschland
END:VEVENT
BEGIN:VEVENT
DTSTART;TZID=Europe/Berlin:20260405T143000
DTEND;TZID=Europe/Berlin:20260405T143000
DTSTAMP:20260422T164440
CREATED:20251224T132556Z
LAST-MODIFIED:20251224T132556Z
UID:2011-1775399400-1775399400@euerdorf.de
SUMMARY:Offene Führung im Museum Terra Triassica
DESCRIPTION:
URL:https://euerdorf.de/event/offene-fuehrung-im-museum-terra-triassica-15/
LOCATION:Museum Terra Triassica\, Gerichtsgasse 22\, Euerdorf\, Bayern\, 97717\, Deutschland
END:VEVENT
BEGIN:VEVENT
DTSTART;VALUE=DATE:20260402
DTEND;VALUE=DATE:20260403
DTSTAMP:20260422T164440
CREATED:20251224T132424Z
LAST-MODIFIED:20251224T132424Z
UID:2009-1775088000-1775174399@euerdorf.de
SUMMARY:Osterschießen
DESCRIPTION:
URL:https://euerdorf.de/event/osterschiessen-3/
LOCATION:Schützenheim Euerdorf\, Karwinkel 1\, Euerdorf\, Bayern\, 97717\, Deutschland
END:VEVENT
BEGIN:VEVENT
DTSTART;TZID=Europe/Berlin:20260325T190000
DTEND;TZID=Europe/Berlin:20260325T190000
DTSTAMP:20260422T164440
CREATED:20251224T132346Z
LAST-MODIFIED:20260226T200622Z
UID:2007-1774465200-1774465200@euerdorf.de
SUMMARY:Jahreshauptversammlung / EU-KA-GE
DESCRIPTION:
URL:https://euerdorf.de/event/jahreshauptversammlung-11/
LOCATION:Sportheim Euerdorf\, Euerdorf\, Bayern\, 97717\, Deutschland
END:VEVENT
BEGIN:VEVENT
DTSTART;TZID=Europe/Berlin:20260317T193000
DTEND;TZID=Europe/Berlin:20260317T193000
DTSTAMP:20260422T164440
CREATED:20251224T132203Z
LAST-MODIFIED:20260226T200544Z
UID:2005-1773775800-1773775800@euerdorf.de
SUMMARY:Jahreshauptversammlung / Euerdorfer Gartenbauverein
DESCRIPTION:
URL:https://euerdorf.de/event/jahreshauptversammlung-10/
LOCATION:Sportheim Euerdorf\, Euerdorf\, Bayern\, 97717\, Deutschland
END:VEVENT
BEGIN:VEVENT
DTSTART;VALUE=DATE:20260315
DTEND;VALUE=DATE:20260316
DTSTAMP:20260422T164440
CREATED:20251224T132027Z
LAST-MODIFIED:20251224T132027Z
UID:2003-1773532800-1773619199@euerdorf.de
SUMMARY:Kaffee- und Kuchenverkauf
DESCRIPTION:
URL:https://euerdorf.de/event/kaffee-und-kuchenverkauf-3/
LOCATION:Pfarrsaal
END:VEVENT
BEGIN:VEVENT
DTSTART;VALUE=DATE:20260315
DTEND;VALUE=DATE:20260316
DTSTAMP:20260422T164440
CREATED:20251224T131947Z
LAST-MODIFIED:20251224T131947Z
UID:2001-1773532800-1773619199@euerdorf.de
SUMMARY:Museum geöffnet
DESCRIPTION:
URL:https://euerdorf.de/event/museum-geoeffnet-3/
LOCATION:Museum Terra Triassica\, Gerichtsgasse 22\, Euerdorf\, Bayern\, 97717\, Deutschland
END:VEVENT
BEGIN:VEVENT
DTSTART;VALUE=DATE:20260315
DTEND;VALUE=DATE:20260316
DTSTAMP:20260422T164440
CREATED:20251224T131854Z
LAST-MODIFIED:20251224T131854Z
UID:1999-1773532800-1773619199@euerdorf.de
SUMMARY:Frühjahrsmarkt Euerdorf
DESCRIPTION:
URL:https://euerdorf.de/event/fruehjahrsmarkt-euerdorf-3/
LOCATION:Euerdorf\, Euerdorf\, 97717\, Deutschland
END:VEVENT
BEGIN:VEVENT
DTSTART;TZID=Europe/Berlin:20260310T190000
DTEND;TZID=Europe/Berlin:20260310T190000
DTSTAMP:20260422T164440
CREATED:20251224T131740Z
LAST-MODIFIED:20260226T200739Z
UID:1997-1773169200-1773169200@euerdorf.de
SUMMARY:Jahreshauptversammlung / Förderverein Helfer vor Ort VG Euerdorf e.V.
DESCRIPTION:
URL:https://euerdorf.de/event/jahreshauptversammlung-9/
LOCATION:Veranstaltungsraum EG Rathaus Euerdorf\, Euerdorf\, 97717\, Deutschland
END:VEVENT
BEGIN:VEVENT
DTSTART;VALUE=DATE:20260306
DTEND;VALUE=DATE:20260307
DTSTAMP:20260422T164440
CREATED:20251224T131631Z
LAST-MODIFIED:20251224T131631Z
UID:1995-1772755200-1772841599@euerdorf.de
SUMMARY:Weltgebetstag der Frauen
DESCRIPTION:
URL:https://euerdorf.de/event/weltgebetstag-der-frauen-3/
LOCATION:Bayern
END:VEVENT
BEGIN:VEVENT
DTSTART;VALUE=DATE:20260301
DTEND;VALUE=DATE:20260302
DTSTAMP:20260422T164440
CREATED:20251224T131542Z
LAST-MODIFIED:20251224T131542Z
UID:1993-1772323200-1772409599@euerdorf.de
SUMMARY:Wahl des Katholischen Gemeindeteams
DESCRIPTION:
URL:https://euerdorf.de/event/wahl-des-katholischen-gemeindeteams/
LOCATION:Pfarrsaal
END:VEVENT
BEGIN:VEVENT
DTSTART;VALUE=DATE:20260227
DTEND;VALUE=DATE:20260228
DTSTAMP:20260422T164440
CREATED:20251224T131439Z
LAST-MODIFIED:20260226T200809Z
UID:1991-1772150400-1772236799@euerdorf.de
SUMMARY:Jahreshauptversammlung / Schützenverein Hubertus-Gilde
DESCRIPTION:
URL:https://euerdorf.de/event/jahreshauptversammlung-8/
LOCATION:Schützenheim Euerdorf\, Karwinkel 1\, Euerdorf\, Bayern\, 97717\, Deutschland
END:VEVENT
BEGIN:VEVENT
DTSTART;VALUE=DATE:20260220
DTEND;VALUE=DATE:20260221
DTSTAMP:20260422T164440
CREATED:20251224T131405Z
LAST-MODIFIED:20251224T131405Z
UID:1989-1771545600-1771631999@euerdorf.de
SUMMARY:Jahreshauptversammlung FFW Euerdorf
DESCRIPTION:
URL:https://euerdorf.de/event/jahreshauptversammlung-ffw-euerdorf/
LOCATION:FFW-Haus Euerdorf
END:VEVENT
BEGIN:VEVENT
DTSTART;VALUE=DATE:20260124
DTEND;VALUE=DATE:20260125
DTSTAMP:20260422T164440
CREATED:20251224T131256Z
LAST-MODIFIED:20251224T131256Z
UID:1987-1769212800-1769299199@euerdorf.de
SUMMARY:Neujahrsempfang im Rathaus Euerdorf
DESCRIPTION:
URL:https://euerdorf.de/event/neujahrsempfang-im-rathaus-euerdorf-2/
LOCATION:Veranstaltungsraum EG Rathaus Euerdorf\, Euerdorf\, 97717\, Deutschland
END:VEVENT
BEGIN:VEVENT
DTSTART;TZID=Europe/Berlin:20260118T140100
DTEND;TZID=Europe/Berlin:20260118T140100
DTSTAMP:20260422T164440
CREATED:20251224T131205Z
LAST-MODIFIED:20251224T131205Z
UID:1985-1768744860-1768744860@euerdorf.de
SUMMARY:Kinderfasching
DESCRIPTION:
URL:https://euerdorf.de/event/kinderfasching-2/
LOCATION:Mehrzweckhalle Sulzthal
END:VEVENT
BEGIN:VEVENT
DTSTART;TZID=Europe/Berlin:20260117T191100
DTEND;TZID=Europe/Berlin:20260117T191100
DTSTAMP:20260422T164440
CREATED:20251224T131108Z
LAST-MODIFIED:20251224T131108Z
UID:1983-1768677060-1768677060@euerdorf.de
SUMMARY:2. Prunksitzung
DESCRIPTION:
URL:https://euerdorf.de/event/2-prunksitzung-2/
LOCATION:Mehrzweckhalle Sulzthal
END:VEVENT
BEGIN:VEVENT
DTSTART;TZID=Europe/Berlin:20260116T191100
DTEND;TZID=Europe/Berlin:20260116T191100
DTSTAMP:20260422T164440
CREATED:20251224T131013Z
LAST-MODIFIED:20251224T131013Z
UID:1981-1768590660-1768590660@euerdorf.de
SUMMARY:1. Prunksitzung
DESCRIPTION:
URL:https://euerdorf.de/event/1-prunksitzung-2/
LOCATION:Mehrzweckhalle Sulzthal
END:VEVENT
BEGIN:VEVENT
DTSTART;TZID=Europe/Berlin:20260109T193000
DTEND;TZID=Europe/Berlin:20260109T193000
DTSTAMP:20260422T164440
CREATED:20251224T130841Z
LAST-MODIFIED:20251224T130841Z
UID:1979-1767987000-1767987000@euerdorf.de
SUMMARY:Jahreshauptversammlung FFW Wirmsthal
DESCRIPTION:
URL:https://euerdorf.de/event/jahreshauptversammlung-ffw-wirmsthal/
LOCATION:Wein.Gut 1867\, Kiesweg 2\, Wirmsthal\, Bayern\, 97717\, Germany
ORGANIZER;CN="FFW Wirmsthal":MAILTO:buetti19@gmx.de
END:VEVENT
BEGIN:VEVENT
DTSTART;VALUE=DATE:20260106
DTEND;VALUE=DATE:20260107
DTSTAMP:20260422T164440
CREATED:20251224T130454Z
LAST-MODIFIED:20251224T130454Z
UID:1977-1767657600-1767743999@euerdorf.de
SUMMARY:Sternsinger-Aktion
DESCRIPTION:
URL:https://euerdorf.de/event/sternsinger-aktion-2/
LOCATION:Euerdorf\, Euerdorf\, 97717\, Deutschland
END:VEVENT
BEGIN:VEVENT
DTSTART;VALUE=DATE:20260105
DTEND;VALUE=DATE:20260106
DTSTAMP:20260422T164440
CREATED:20251224T130342Z
LAST-MODIFIED:20251224T130342Z
UID:1975-1767571200-1767657599@euerdorf.de
SUMMARY:Drei-Königs-Schießen mit Kesselfleischessen
DESCRIPTION:
URL:https://euerdorf.de/event/drei-koenigs-schiessen-mit-kesselfleischessen-2/
LOCATION:Schützenheim Euerdorf\, Karwinkel 1\, Euerdorf\, Bayern\, 97717\, Deutschland
END:VEVENT
BEGIN:VEVENT
DTSTART;TZID=Europe/Berlin:20251221T170000
DTEND;TZID=Europe/Berlin:20251221T170000
DTSTAMP:20260422T164440
CREATED:20250228T135750Z
LAST-MODIFIED:20251130T002728Z
UID:1864-1766336400-1766336400@euerdorf.de
SUMMARY:Weihnachtslieder unterm Christbaum
DESCRIPTION:
URL:https://euerdorf.de/event/weihnachtslieder-unterm-christbaum-3/
LOCATION:Marktplatz Euerdorf\, Euerdorf\, Bayern\, 97717\, Deutschland
END:VEVENT
BEGIN:VEVENT
DTSTART;VALUE=DATE:20251220
DTEND;VALUE=DATE:20251221
DTSTAMP:20260422T164440
CREATED:20250228T135826Z
LAST-MODIFIED:20250228T135826Z
UID:1866-1766188800-1766275199@euerdorf.de
SUMMARY:Glühweinabend
DESCRIPTION:
URL:https://euerdorf.de/event/gluehweinabend-2/
LOCATION:Jugendraum Euerdorf\, Hammelburger Straße 18\, Euerdorf\, Bayern\, 97717\, Deutschland
END:VEVENT
BEGIN:VEVENT
DTSTART;VALUE=DATE:20251213
DTEND;VALUE=DATE:20251214
DTSTAMP:20260422T164440
CREATED:20250228T135909Z
LAST-MODIFIED:20250228T135909Z
UID:1868-1765584000-1765670399@euerdorf.de
SUMMARY:Weihnachtsfeier
DESCRIPTION:
URL:https://euerdorf.de/event/weihnachtsfeier-2/
LOCATION:Schützenheim Euerdorf\, Karwinkel 1\, Euerdorf\, Bayern\, 97717\, Deutschland
END:VEVENT
BEGIN:VEVENT
DTSTART;VALUE=DATE:20251206
DTEND;VALUE=DATE:20251207
DTSTAMP:20260422T164440
CREATED:20250228T135941Z
LAST-MODIFIED:20250228T135941Z
UID:1870-1764979200-1765065599@euerdorf.de
SUMMARY:Christbaumverkauf
DESCRIPTION:
URL:https://euerdorf.de/event/christbaumverkauf-2/
LOCATION:FFW-Haus Euerdorf
END:VEVENT
BEGIN:VEVENT
DTSTART;TZID=Europe/Berlin:20251205T160000
DTEND;TZID=Europe/Berlin:20251205T160000
DTSTAMP:20260422T164440
CREATED:20251130T002858Z
LAST-MODIFIED:20251130T002858Z
UID:1956-1764950400-1764950400@euerdorf.de
SUMMARY:Wilder Advent
DESCRIPTION:
URL:https://euerdorf.de/event/wilder-advent/
LOCATION:Sportheim Euerdorf\, Euerdorf\, Bayern\, 97717\, Deutschland
ORGANIZER;CN="TSV Euerdorf":MAILTO:tsv.euerdorf@web.de
END:VEVENT
BEGIN:VEVENT
DTSTART;TZID=Europe/Berlin:20251130T120000
DTEND;TZID=Europe/Berlin:20251130T190000
DTSTAMP:20260422T164440
CREATED:20250228T140006Z
LAST-MODIFIED:20251130T002536Z
UID:1872-1764504000-1764529200@euerdorf.de
SUMMARY:Weihnachtsmarkt
DESCRIPTION:
URL:https://euerdorf.de/event/weihnachtsmarkt-2/
LOCATION:Museum Terra Triassica\, Gerichtsgasse 22\, Euerdorf\, Bayern\, 97717\, Deutschland
END:VEVENT
BEGIN:VEVENT
DTSTART;VALUE=DATE:20251115
DTEND;VALUE=DATE:20251116
DTSTAMP:20260422T164440
CREATED:20250228T140035Z
LAST-MODIFIED:20250228T140035Z
UID:1874-1763164800-1763251199@euerdorf.de
SUMMARY:Rathaussturm Euerdorf
DESCRIPTION:
URL:https://euerdorf.de/event/rathaussturm-euerdorf-2/
LOCATION:Bayern
END:VEVENT
BEGIN:VEVENT
DTSTART;TZID=Europe/Berlin:20251111T170000
DTEND;TZID=Europe/Berlin:20251111T170000
DTSTAMP:20260422T164440
CREATED:20250228T140115Z
LAST-MODIFIED:20250228T140115Z
UID:1876-1762880400-1762880400@euerdorf.de
SUMMARY:Martinszug Euerdorf
DESCRIPTION:
URL:https://euerdorf.de/event/martinszug-euerdorf-2/
LOCATION:Euerdorf\, Euerdorf\, 97717\, Deutschland
END:VEVENT
BEGIN:VEVENT
DTSTART;TZID=Europe/Berlin:20251108T200000
DTEND;TZID=Europe/Berlin:20251108T200000
DTSTAMP:20260422T164440
CREATED:20250228T140226Z
LAST-MODIFIED:20250228T140226Z
UID:1880-1762632000-1762632000@euerdorf.de
SUMMARY:Nacht der Lichter
DESCRIPTION:
URL:https://euerdorf.de/event/nacht-der-lichter-2/
LOCATION:Pfarrkirche St. Johannes der Täufer\, Hammelburger Straße 16\, Euerdorf\, Bayern\, 97717\, Deutschland
END:VEVENT
END:VCALENDAR