BEGIN:VCALENDAR
VERSION:2.0
PRODID:-//Tourist Information Euerdorf - ECPv6.15.17//NONSGML v1.0//EN
CALSCALE:GREGORIAN
METHOD:PUBLISH
X-WR-CALNAME:Tourist Information Euerdorf
X-ORIGINAL-URL:https://euerdorf.de
X-WR-CALDESC:Veranstaltungen für Tourist Information Euerdorf
REFRESH-INTERVAL;VALUE=DURATION:PT1H
X-Robots-Tag:noindex
X-PUBLISHED-TTL:PT1H
BEGIN:VTIMEZONE
TZID:Europe/Berlin
BEGIN:DAYLIGHT
TZOFFSETFROM:+0100
TZOFFSETTO:+0200
TZNAME:CEST
DTSTART:20250330T010000
END:DAYLIGHT
BEGIN:STANDARD
TZOFFSETFROM:+0200
TZOFFSETTO:+0100
TZNAME:CET
DTSTART:20251026T010000
END:STANDARD
BEGIN:DAYLIGHT
TZOFFSETFROM:+0100
TZOFFSETTO:+0200
TZNAME:CEST
DTSTART:20260329T010000
END:DAYLIGHT
BEGIN:STANDARD
TZOFFSETFROM:+0200
TZOFFSETTO:+0100
TZNAME:CET
DTSTART:20261025T010000
END:STANDARD
BEGIN:DAYLIGHT
TZOFFSETFROM:+0100
TZOFFSETTO:+0200
TZNAME:CEST
DTSTART:20270328T010000
END:DAYLIGHT
BEGIN:STANDARD
TZOFFSETFROM:+0200
TZOFFSETTO:+0100
TZNAME:CET
DTSTART:20271031T010000
END:STANDARD
END:VTIMEZONE
BEGIN:VEVENT
DTSTART;TZID=Europe/Berlin:20260426T120000
DTEND;TZID=Europe/Berlin:20260426T160000
DTSTAMP:20260422T140529
CREATED:20251224T132912Z
LAST-MODIFIED:20251224T132912Z
UID:2017-1777204800-1777219200@euerdorf.de
SUMMARY:Pflanzentauschbörse im Permakulturgärtchen
DESCRIPTION:
URL:https://euerdorf.de/event/pflanzentauschboerse-im-permakulturgaertchen-2/
LOCATION:Bayern
END:VEVENT
BEGIN:VEVENT
DTSTART;VALUE=DATE:20260430
DTEND;VALUE=DATE:20260501
DTSTAMP:20260422T140529
CREATED:20251224T133045Z
LAST-MODIFIED:20251224T133045Z
UID:2021-1777507200-1777593599@euerdorf.de
SUMMARY:Maibaumaufstellung Euerdorf
DESCRIPTION:
URL:https://euerdorf.de/event/maibaumaufstellung-euerdorf-2/
LOCATION:Marktplatz Euerdorf\, Euerdorf\, Bayern\, 97717\, Deutschland
END:VEVENT
BEGIN:VEVENT
DTSTART;TZID=Europe/Berlin:20260430T180000
DTEND;TZID=Europe/Berlin:20260430T180000
DTSTAMP:20260422T140529
CREATED:20251224T133012Z
LAST-MODIFIED:20251224T133012Z
UID:2019-1777572000-1777572000@euerdorf.de
SUMMARY:Maibaumaufstellung Wirmsthal
DESCRIPTION:
URL:https://euerdorf.de/event/maibaumaufstellung-wirmsthal-2/
LOCATION:Bushaltestelle Wirmsthal
ORGANIZER;CN="FFW Wirmsthal":MAILTO:buetti19@gmx.de
END:VEVENT
BEGIN:VEVENT
DTSTART;VALUE=DATE:20260501
DTEND;VALUE=DATE:20260502
DTSTAMP:20260422T140529
CREATED:20251224T133211Z
LAST-MODIFIED:20251224T133211Z
UID:2023-1777593600-1777679999@euerdorf.de
SUMMARY:Maifest mit Floriani-Tag
DESCRIPTION:
URL:https://euerdorf.de/event/maifest-mit-floriani-tag/
LOCATION:Marktplatz Euerdorf\, Euerdorf\, Bayern\, 97717\, Deutschland
END:VEVENT
BEGIN:VEVENT
DTSTART;TZID=Europe/Berlin:20260503T143000
DTEND;TZID=Europe/Berlin:20260503T143000
DTSTAMP:20260422T140529
CREATED:20251224T133256Z
LAST-MODIFIED:20251224T133256Z
UID:2025-1777818600-1777818600@euerdorf.de
SUMMARY:Offene Führung im Museum Terra Triassica
DESCRIPTION:
URL:https://euerdorf.de/event/offene-fuehrung-im-museum-terra-triassica-16/
LOCATION:Museum Terra Triassica\, Gerichtsgasse 22\, Euerdorf\, Bayern\, 97717\, Deutschland
END:VEVENT
BEGIN:VEVENT
DTSTART;VALUE=DATE:20260507
DTEND;VALUE=DATE:20260510
DTSTAMP:20260422T140529
CREATED:20251224T133351Z
LAST-MODIFIED:20251224T133351Z
UID:2027-1778112000-1778371199@euerdorf.de
SUMMARY:Orts-/Königsschießen
DESCRIPTION:
URL:https://euerdorf.de/event/orts-koenigsschiessen-8/
LOCATION:Schützenheim Euerdorf\, Karwinkel 1\, Euerdorf\, Bayern\, 97717\, Deutschland
END:VEVENT
BEGIN:VEVENT
DTSTART;VALUE=DATE:20260512
DTEND;VALUE=DATE:20260513
DTSTAMP:20260422T140529
CREATED:20251224T133516Z
LAST-MODIFIED:20251224T133516Z
UID:2029-1778544000-1778630399@euerdorf.de
SUMMARY:Gottesdienst anlässlich der Bitt-Tage
DESCRIPTION:
URL:https://euerdorf.de/event/gottesdienst-anlaesslich-der-bitt-tage/
LOCATION:Pfarrgarten Euerdorf\, Hammelburger Straße 17\, Euerdorf\, Bayern\, 97717\, Deutschland
END:VEVENT
BEGIN:VEVENT
DTSTART;VALUE=DATE:20260515
DTEND;VALUE=DATE:20260516
DTSTAMP:20260422T140529
CREATED:20251224T133605Z
LAST-MODIFIED:20260226T200655Z
UID:2031-1778803200-1778889599@euerdorf.de
SUMMARY:Generalversammlung / Jugendraum Euerdorf
DESCRIPTION:
URL:https://euerdorf.de/event/generalversammlung-5/
LOCATION:Jugendraum Euerdorf\, Hammelburger Straße 18\, Euerdorf\, Bayern\, 97717\, Deutschland
END:VEVENT
BEGIN:VEVENT
DTSTART;VALUE=DATE:20260520
DTEND;VALUE=DATE:20260521
DTSTAMP:20260422T140529
CREATED:20251224T133638Z
LAST-MODIFIED:20251224T133638Z
UID:2033-1779235200-1779321599@euerdorf.de
SUMMARY:After Work Party
DESCRIPTION:
URL:https://euerdorf.de/event/after-work-party-3/
LOCATION:Museum Terra Triassica\, Gerichtsgasse 22\, Euerdorf\, Bayern\, 97717\, Deutschland
END:VEVENT
BEGIN:VEVENT
DTSTART;TZID=Europe/Berlin:20260607T143000
DTEND;TZID=Europe/Berlin:20260607T143000
DTSTAMP:20260422T140529
CREATED:20251224T133729Z
LAST-MODIFIED:20251224T133729Z
UID:2035-1780842600-1780842600@euerdorf.de
SUMMARY:Offene Führung im Museum Terra Triassica
DESCRIPTION:
URL:https://euerdorf.de/event/offene-fuehrung-im-museum-terra-triassica-17/
LOCATION:Museum Terra Triassica\, Gerichtsgasse 22\, Euerdorf\, Bayern\, 97717\, Deutschland
END:VEVENT
BEGIN:VEVENT
DTSTART;VALUE=DATE:20260608
DTEND;VALUE=DATE:20260609
DTSTAMP:20260422T140529
CREATED:20260226T201046Z
LAST-MODIFIED:20260226T201046Z
UID:2054-1780876800-1780963199@euerdorf.de
SUMMARY:Lounge/After-Work-Party
DESCRIPTION:
URL:https://euerdorf.de/event/lounge-after-work-party/
LOCATION:Museum Terra Triassica\, Gerichtsgasse 22\, Euerdorf\, Bayern\, 97717\, Deutschland
END:VEVENT
BEGIN:VEVENT
DTSTART;VALUE=DATE:20260613
DTEND;VALUE=DATE:20260615
DTSTAMP:20260422T140529
CREATED:20251224T133913Z
LAST-MODIFIED:20251224T133913Z
UID:2037-1781308800-1781481599@euerdorf.de
SUMMARY:Wirmsthaler Weinsommer
DESCRIPTION:Findet statt am Dorfbrunnen beim Feuerwehrhaus\, Brunnenstraße
URL:https://euerdorf.de/event/wirmsthaler-weinsommer-2/
LOCATION:Wirmsthal\, Wirmsthal\, 97717
END:VEVENT
BEGIN:VEVENT
DTSTART;VALUE=DATE:20260626
DTEND;VALUE=DATE:20260627
DTSTAMP:20260422T140529
CREATED:20251224T134125Z
LAST-MODIFIED:20251224T134125Z
UID:2041-1782432000-1782518399@euerdorf.de
SUMMARY:Sonnwendfeuer
DESCRIPTION:
URL:https://euerdorf.de/event/sonnwendfeuer-4/
LOCATION:Sportplatz Euerdorf\, Euerdorf\, Bayern\, 97717\, Deutschland
ORGANIZER;CN="TSV Euerdorf":MAILTO:tsv.euerdorf@web.de
END:VEVENT
BEGIN:VEVENT
DTSTART;TZID=Europe/Berlin:20260626T180000
DTEND;TZID=Europe/Berlin:20260626T180000
DTSTAMP:20260422T140529
CREATED:20251224T134018Z
LAST-MODIFIED:20251224T134018Z
UID:2039-1782496800-1782496800@euerdorf.de
SUMMARY:Johannisfeuer
DESCRIPTION:
URL:https://euerdorf.de/event/johannisfeuer-4/
LOCATION:Bolzplatz Wirmsthal
ORGANIZER;CN="FFW Wirmsthal":MAILTO:buetti19@gmx.de
END:VEVENT
BEGIN:VEVENT
DTSTART;VALUE=DATE:20260628
DTEND;VALUE=DATE:20260630
DTSTAMP:20260422T140529
CREATED:20251224T134223Z
LAST-MODIFIED:20251224T134223Z
UID:2043-1782604800-1782777599@euerdorf.de
SUMMARY:Pfarrfest
DESCRIPTION:
URL:https://euerdorf.de/event/pfarrfest-3/
LOCATION:Pfarrgarten Euerdorf\, Hammelburger Straße 17\, Euerdorf\, Bayern\, 97717\, Deutschland
END:VEVENT
BEGIN:VEVENT
DTSTART;TZID=Europe/Berlin:20260705T143000
DTEND;TZID=Europe/Berlin:20260705T143000
DTSTAMP:20260422T140529
CREATED:20260226T201002Z
LAST-MODIFIED:20260226T201002Z
UID:2052-1783261800-1783261800@euerdorf.de
SUMMARY:Offene Führung im Museum
DESCRIPTION:
URL:https://euerdorf.de/event/offene-fuehrung-im-museum-7/
LOCATION:Museum Terra Triassica\, Gerichtsgasse 22\, Euerdorf\, Bayern\, 97717\, Deutschland
END:VEVENT
BEGIN:VEVENT
DTSTART;VALUE=DATE:20260718
DTEND;VALUE=DATE:20260719
DTSTAMP:20260422T140529
CREATED:20260226T201200Z
LAST-MODIFIED:20260226T201200Z
UID:2056-1784332800-1784419199@euerdorf.de
SUMMARY:Kreuzbergwallfahrt
DESCRIPTION:
URL:https://euerdorf.de/event/kreuzbergwallfahrt-4/
LOCATION:Euerdorf\, Euerdorf\, 97717\, Deutschland
END:VEVENT
BEGIN:VEVENT
DTSTART;VALUE=DATE:20260719
DTEND;VALUE=DATE:20260720
DTSTAMP:20260422T140529
CREATED:20260226T201252Z
LAST-MODIFIED:20260226T201252Z
UID:2058-1784419200-1784505599@euerdorf.de
SUMMARY:Kreuzbergwallfahrt
DESCRIPTION:
URL:https://euerdorf.de/event/kreuzbergwallfahrt-5/
LOCATION:Euerdorf\, Euerdorf\, 97717\, Deutschland
END:VEVENT
BEGIN:VEVENT
DTSTART;VALUE=DATE:20260722
DTEND;VALUE=DATE:20260723
DTSTAMP:20260422T140529
CREATED:20260226T201340Z
LAST-MODIFIED:20260226T201340Z
UID:2060-1784678400-1784764799@euerdorf.de
SUMMARY:Vernissage zu Kunst geht fremd
DESCRIPTION:
URL:https://euerdorf.de/event/vernissage-zu-kunst-geht-fremd-3/
LOCATION:Museum Terra Triassica\, Gerichtsgasse 22\, Euerdorf\, Bayern\, 97717\, Deutschland
END:VEVENT
BEGIN:VEVENT
DTSTART;VALUE=DATE:20260725
DTEND;VALUE=DATE:20260726
DTSTAMP:20260422T140529
CREATED:20260226T201417Z
LAST-MODIFIED:20260226T201417Z
UID:2062-1784937600-1785023999@euerdorf.de
SUMMARY:Beachparty
DESCRIPTION:
URL:https://euerdorf.de/event/beachparty/
LOCATION:Bayern
END:VEVENT
BEGIN:VEVENT
DTSTART;VALUE=DATE:20260801
DTEND;VALUE=DATE:20260803
DTSTAMP:20260422T140529
CREATED:20260226T201550Z
LAST-MODIFIED:20260226T201550Z
UID:2064-1785542400-1785715199@euerdorf.de
SUMMARY:Straßenweinfest
DESCRIPTION:
URL:https://euerdorf.de/event/strassenweinfest-2/
LOCATION:Wirmsthal\, Wirmsthal\, 97717
END:VEVENT
BEGIN:VEVENT
DTSTART;TZID=Europe/Berlin:20260802T143000
DTEND;TZID=Europe/Berlin:20260802T143000
DTSTAMP:20260422T140529
CREATED:20260226T201652Z
LAST-MODIFIED:20260226T201652Z
UID:2066-1785681000-1785681000@euerdorf.de
SUMMARY:Offene Führung im Museum
DESCRIPTION:
URL:https://euerdorf.de/event/offene-fuehrung-im-museum-8/
LOCATION:Museum Terra Triassica\, Gerichtsgasse 22\, Euerdorf\, Bayern\, 97717\, Deutschland
END:VEVENT
BEGIN:VEVENT
DTSTART;TZID=Europe/Berlin:20260906T143000
DTEND;TZID=Europe/Berlin:20260906T143000
DTSTAMP:20260422T140529
CREATED:20260226T201743Z
LAST-MODIFIED:20260226T201743Z
UID:2068-1788705000-1788705000@euerdorf.de
SUMMARY:Offene Führung im Museum
DESCRIPTION:
URL:https://euerdorf.de/event/offene-fuehrung-im-museum-9/
LOCATION:Museum Terra Triassica\, Gerichtsgasse 22\, Euerdorf\, Bayern\, 97717\, Deutschland
END:VEVENT
BEGIN:VEVENT
DTSTART;VALUE=DATE:20260926
DTEND;VALUE=DATE:20260927
DTSTAMP:20260422T140529
CREATED:20260226T201841Z
LAST-MODIFIED:20260226T201841Z
UID:2070-1790380800-1790467199@euerdorf.de
SUMMARY:Federweißerabend
DESCRIPTION:
URL:https://euerdorf.de/event/federweisserabend/
LOCATION:Schützenheim Euerdorf\, Karwinkel 1\, Euerdorf\, Bayern\, 97717\, Deutschland
END:VEVENT
BEGIN:VEVENT
DTSTART;TZID=Europe/Berlin:20261004T143000
DTEND;TZID=Europe/Berlin:20261004T143000
DTSTAMP:20260422T140529
CREATED:20260226T204909Z
LAST-MODIFIED:20260226T204909Z
UID:2072-1791124200-1791124200@euerdorf.de
SUMMARY:Offene Führung im Museum
DESCRIPTION:
URL:https://euerdorf.de/event/offene-fuehrung-im-museum-10/
LOCATION:Museum Terra Triassica\, Gerichtsgasse 22\, Euerdorf\, Bayern\, 97717\, Deutschland
END:VEVENT
BEGIN:VEVENT
DTSTART;VALUE=DATE:20261010
DTEND;VALUE=DATE:20261011
DTSTAMP:20260422T140529
CREATED:20260226T204939Z
LAST-MODIFIED:20260226T204939Z
UID:2074-1791590400-1791676799@euerdorf.de
SUMMARY:Kickerturnier
DESCRIPTION:
URL:https://euerdorf.de/event/kickerturnier-4/
LOCATION:Jugendraum Euerdorf\, Hammelburger Straße 18\, Euerdorf\, Bayern\, 97717\, Deutschland
END:VEVENT
BEGIN:VEVENT
DTSTART;VALUE=DATE:20261011
DTEND;VALUE=DATE:20261012
DTSTAMP:20260422T140529
CREATED:20260226T205016Z
LAST-MODIFIED:20260226T205016Z
UID:2076-1791676800-1791763199@euerdorf.de
SUMMARY:Herbstmarkt
DESCRIPTION:
URL:https://euerdorf.de/event/herbstmarkt-4/
LOCATION:Euerdorf\, Euerdorf\, 97717\, Deutschland
END:VEVENT
BEGIN:VEVENT
DTSTART;VALUE=DATE:20261011
DTEND;VALUE=DATE:20261012
DTSTAMP:20260422T140529
CREATED:20260226T205051Z
LAST-MODIFIED:20260226T205051Z
UID:2078-1791676800-1791763199@euerdorf.de
SUMMARY:Museum geöffnet
DESCRIPTION:
URL:https://euerdorf.de/event/museum-geoeffnet-4/
LOCATION:Museum Terra Triassica\, Gerichtsgasse 22\, Euerdorf\, Bayern\, 97717\, Deutschland
END:VEVENT
BEGIN:VEVENT
DTSTART;VALUE=DATE:20261011
DTEND;VALUE=DATE:20261012
DTSTAMP:20260422T140529
CREATED:20260226T205122Z
LAST-MODIFIED:20260226T205122Z
UID:2080-1791676800-1791763199@euerdorf.de
SUMMARY:Kaffee- /Kuchenbar
DESCRIPTION:
URL:https://euerdorf.de/event/kaffee-kuchenbar/
LOCATION:Pfarrsaal
END:VEVENT
BEGIN:VEVENT
DTSTART;VALUE=DATE:20261031
DTEND;VALUE=DATE:20261101
DTSTAMP:20260422T140529
CREATED:20260226T205209Z
LAST-MODIFIED:20260226T205209Z
UID:2082-1793404800-1793491199@euerdorf.de
SUMMARY:Traditioneller Preis-Schafkopf
DESCRIPTION:
URL:https://euerdorf.de/event/traditioneller-preis-schafkopf/
LOCATION:Sportheim Euerdorf\, Euerdorf\, Bayern\, 97717\, Deutschland
ORGANIZER;CN="TSV Euerdorf":MAILTO:tsv.euerdorf@web.de
END:VEVENT
END:VCALENDAR