BEGIN:VCALENDAR
VERSION:2.0
PRODID:-//Tourist Information Euerdorf - ECPv6.15.17//NONSGML v1.0//EN
CALSCALE:GREGORIAN
METHOD:PUBLISH
X-WR-CALNAME:Tourist Information Euerdorf
X-ORIGINAL-URL:https://euerdorf.de
X-WR-CALDESC:Veranstaltungen für Tourist Information Euerdorf
REFRESH-INTERVAL;VALUE=DURATION:PT1H
X-Robots-Tag:noindex
X-PUBLISHED-TTL:PT1H
BEGIN:VTIMEZONE
TZID:Europe/Berlin
BEGIN:DAYLIGHT
TZOFFSETFROM:+0100
TZOFFSETTO:+0200
TZNAME:CEST
DTSTART:20250330T010000
END:DAYLIGHT
BEGIN:STANDARD
TZOFFSETFROM:+0200
TZOFFSETTO:+0100
TZNAME:CET
DTSTART:20251026T010000
END:STANDARD
BEGIN:DAYLIGHT
TZOFFSETFROM:+0100
TZOFFSETTO:+0200
TZNAME:CEST
DTSTART:20260329T010000
END:DAYLIGHT
BEGIN:STANDARD
TZOFFSETFROM:+0200
TZOFFSETTO:+0100
TZNAME:CET
DTSTART:20261025T010000
END:STANDARD
BEGIN:DAYLIGHT
TZOFFSETFROM:+0100
TZOFFSETTO:+0200
TZNAME:CEST
DTSTART:20270328T010000
END:DAYLIGHT
BEGIN:STANDARD
TZOFFSETFROM:+0200
TZOFFSETTO:+0100
TZNAME:CET
DTSTART:20271031T010000
END:STANDARD
END:VTIMEZONE
BEGIN:VEVENT
DTSTART;VALUE=DATE:20260626
DTEND;VALUE=DATE:20260627
DTSTAMP:20260422T223810
CREATED:20251224T134125Z
LAST-MODIFIED:20251224T134125Z
UID:2041-1782432000-1782518399@euerdorf.de
SUMMARY:Sonnwendfeuer
DESCRIPTION:
URL:https://euerdorf.de/event/sonnwendfeuer-4/
LOCATION:Sportplatz Euerdorf\, Euerdorf\, Bayern\, 97717\, Deutschland
ORGANIZER;CN="TSV Euerdorf":MAILTO:tsv.euerdorf@web.de
END:VEVENT
BEGIN:VEVENT
DTSTART;TZID=Europe/Berlin:20260626T180000
DTEND;TZID=Europe/Berlin:20260626T180000
DTSTAMP:20260422T223810
CREATED:20251224T134018Z
LAST-MODIFIED:20251224T134018Z
UID:2039-1782496800-1782496800@euerdorf.de
SUMMARY:Johannisfeuer
DESCRIPTION:
URL:https://euerdorf.de/event/johannisfeuer-4/
LOCATION:Bolzplatz Wirmsthal
ORGANIZER;CN="FFW Wirmsthal":MAILTO:buetti19@gmx.de
END:VEVENT
END:VCALENDAR