BEGIN:VCALENDAR
VERSION:2.0
PRODID:-//Tourist Information Euerdorf - ECPv6.15.17//NONSGML v1.0//EN
CALSCALE:GREGORIAN
METHOD:PUBLISH
X-ORIGINAL-URL:https://euerdorf.de
X-WR-CALDESC:Veranstaltungen für Tourist Information Euerdorf
REFRESH-INTERVAL;VALUE=DURATION:PT1H
X-Robots-Tag:noindex
X-PUBLISHED-TTL:PT1H
BEGIN:VTIMEZONE
TZID:Europe/Berlin
BEGIN:DAYLIGHT
TZOFFSETFROM:+0100
TZOFFSETTO:+0200
TZNAME:CEST
DTSTART:20240331T010000
END:DAYLIGHT
BEGIN:STANDARD
TZOFFSETFROM:+0200
TZOFFSETTO:+0100
TZNAME:CET
DTSTART:20241027T010000
END:STANDARD
BEGIN:DAYLIGHT
TZOFFSETFROM:+0100
TZOFFSETTO:+0200
TZNAME:CEST
DTSTART:20250330T010000
END:DAYLIGHT
BEGIN:STANDARD
TZOFFSETFROM:+0200
TZOFFSETTO:+0100
TZNAME:CET
DTSTART:20251026T010000
END:STANDARD
BEGIN:DAYLIGHT
TZOFFSETFROM:+0100
TZOFFSETTO:+0200
TZNAME:CEST
DTSTART:20260329T010000
END:DAYLIGHT
BEGIN:STANDARD
TZOFFSETFROM:+0200
TZOFFSETTO:+0100
TZNAME:CET
DTSTART:20261025T010000
END:STANDARD
END:VTIMEZONE
BEGIN:VEVENT
DTSTART;TZID=Europe/Berlin:20251221T170000
DTEND;TZID=Europe/Berlin:20251221T170000
DTSTAMP:20260423T010809
CREATED:20250228T135750Z
LAST-MODIFIED:20251130T002728Z
UID:1864-1766336400-1766336400@euerdorf.de
SUMMARY:Weihnachtslieder unterm Christbaum
DESCRIPTION:
URL:https://euerdorf.de/event/weihnachtslieder-unterm-christbaum-3/
LOCATION:Marktplatz Euerdorf\, Euerdorf\, Bayern\, 97717\, Deutschland
END:VEVENT
END:VCALENDAR